BEGIN:VCALENDAR
VERSION:2.0
PRODID:-// - ECPv6.0.6.2//NONSGML v1.0//EN
CALSCALE:GREGORIAN
METHOD:PUBLISH
X-ORIGINAL-URL:https://www.bluenoseautosport.ca
X-WR-CALDESC:Events for 
REFRESH-INTERVAL;VALUE=DURATION:PT1H
X-Robots-Tag:noindex
X-PUBLISHED-TTL:PT1H
BEGIN:VTIMEZONE
TZID:America/Sao_Paulo
BEGIN:STANDARD
TZOFFSETFROM:-0300
TZOFFSETTO:-0300
TZNAME:-03
DTSTART:20250101T000000
END:STANDARD
END:VTIMEZONE
BEGIN:VEVENT
DTSTART;TZID=America/Sao_Paulo:20251018T080000
DTEND;TZID=America/Sao_Paulo:20251018T170000
DTSTAMP:20260425T165458
CREATED:20251009T202337Z
LAST-MODIFIED:20251009T202829Z
UID:2122-1760774400-1760806800@www.bluenoseautosport.ca
SUMMARY:Lost in Lunenburg Navigational Rally
DESCRIPTION:Date:   Oct 18\, 2025\nRally HQ:   Indian Point Fire Hall. 59 Indian Point Rd\, Mahone Bay\, NS B0J 2E0. 44.456644\, -64.317629\nRally HQ Opens:  11:00 AST\nTeam Meeting:  12:00 AST\nCar Zero Start:  13:00 AST\nRally End:   Boston Pizza\, 485 Hwy #10\, Bridgewater\, NS B4V 7P4. 44.399331\, -64.536828\nRally Length:  ~200km over 3.5 hrs \n  \nSupp Regs are available on the RRDG website at https://roadrallyatlantic.ca/wp-content/uploads/2025/09/lilr-2025-sr-rev-1_1.pdf . \nThe link for the online registration form is https://forms.gle/kX6PRR4f4MQyYom28 .  The Road Rally Development Group website can be accessed here.
URL:https://www.bluenoseautosport.ca/event/lost-in-lunenburg-navigational-rally/
LOCATION:Indian Point Firehall\, 59 Indian Point Rd\, Mahone Bay\, Nova Scotia\, B0J 2E0\, Canada
END:VEVENT
END:VCALENDAR