BEGIN:VCALENDAR
VERSION:2.0
PRODID:-// - ECPv6.0.6.2//NONSGML v1.0//EN
CALSCALE:GREGORIAN
METHOD:PUBLISH
X-ORIGINAL-URL:https://www.bluenoseautosport.ca
X-WR-CALDESC:Events for 
REFRESH-INTERVAL;VALUE=DURATION:PT1H
X-Robots-Tag:noindex
X-PUBLISHED-TTL:PT1H
BEGIN:VTIMEZONE
TZID:America/Sao_Paulo
BEGIN:STANDARD
TZOFFSETFROM:-0300
TZOFFSETTO:-0300
TZNAME:-03
DTSTART:20250101T000000
END:STANDARD
END:VTIMEZONE
BEGIN:VEVENT
DTSTART;TZID=America/Sao_Paulo:20251025T080000
DTEND;TZID=America/Sao_Paulo:20251026T170000
DTSTAMP:20260425T165555
CREATED:20240922T233606Z
LAST-MODIFIED:20251025T132957Z
UID:1821-1761379200-1761498000@www.bluenoseautosport.ca
SUMMARY:Trout Lake 2025 - CANCELLED
DESCRIPTION:Due to drought and wildfire conditions\, we have had to cancel Trout Lake for 2025. Watch our website for details on future rallies. \n  \nWatch for details on our BAC Trout Lake website
URL:https://www.bluenoseautosport.ca/event/trout-lake-2025/
LOCATION:Trout Lake\, 3577 Aylesford Road\, Nova Scotia\, Canada
ORGANIZER;CN="Bluenose%20Autosport%20Club":MAILTO:info@bluenoseautosport.ca
END:VEVENT
END:VCALENDAR