BEGIN:VCALENDAR
VERSION:2.0
PRODID:-// - ECPv6.0.6.2//NONSGML v1.0//EN
CALSCALE:GREGORIAN
METHOD:PUBLISH
X-ORIGINAL-URL:https://www.bluenoseautosport.ca
X-WR-CALDESC:Events for 
REFRESH-INTERVAL;VALUE=DURATION:PT1H
X-Robots-Tag:noindex
X-PUBLISHED-TTL:PT1H
BEGIN:VTIMEZONE
TZID:America/Sao_Paulo
BEGIN:STANDARD
TZOFFSETFROM:-0300
TZOFFSETTO:-0300
TZNAME:-03
DTSTART:20250101T000000
END:STANDARD
END:VTIMEZONE
BEGIN:VEVENT
DTSTART;TZID=America/Sao_Paulo:20251216T183000
DTEND;TZID=America/Sao_Paulo:20251216T203000
DTSTAMP:20260425T135008
CREATED:20251206T220924Z
LAST-MODIFIED:20251206T220924Z
UID:2189-1765909800-1765917000@www.bluenoseautosport.ca
SUMMARY:BAC Christmas Party and Awards
DESCRIPTION:Come join us at Montanas in Dartmouth Crossing \nTuesday\, December 16th\, starting at 6:30 \nYear End Awards will also be given out.
URL:https://www.bluenoseautosport.ca/event/bac-christmas-party-and-awards/
LOCATION:Montanas\, 101 Shubie Dr\, Dartmouth\, Nova Scotia\, B3B 0C3\, Canada
ORGANIZER;CN="Bluenose%20Autosport%20Club":MAILTO:info@bluenoseautosport.ca
END:VEVENT
END:VCALENDAR