BEGIN:VCALENDAR
VERSION:2.0
PRODID:-// - ECPv6.0.6.2//NONSGML v1.0//EN
CALSCALE:GREGORIAN
METHOD:PUBLISH
X-ORIGINAL-URL:https://www.bluenoseautosport.ca
X-WR-CALDESC:Events for 
REFRESH-INTERVAL;VALUE=DURATION:PT1H
X-Robots-Tag:noindex
X-PUBLISHED-TTL:PT1H
BEGIN:VTIMEZONE
TZID:America/Sao_Paulo
BEGIN:STANDARD
TZOFFSETFROM:-0300
TZOFFSETTO:-0300
TZNAME:-03
DTSTART:20260101T000000
END:STANDARD
END:VTIMEZONE
BEGIN:VEVENT
DTSTART;TZID=America/Sao_Paulo:20260224T193000
DTEND;TZID=America/Sao_Paulo:20260224T210000
DTSTAMP:20260425T122001
CREATED:20260128T215849Z
LAST-MODIFIED:20260128T215849Z
UID:2206-1771961400-1771966800@www.bluenoseautosport.ca
SUMMARY:BAC Monthly Meeting
DESCRIPTION:Come join us at Freeman’s in Lower Sackville for a meal\, chat and a meeting. \nHelp make our club better with your ideas and contributions. \nThe room is booked for 6:30 if you want to come have dinner before the meeting at 7:30
URL:https://www.bluenoseautosport.ca/event/bac-monthly-meeting-2/
LOCATION:Freeman’s Little New York\, 552 Sackville Dr.\, Lower Sackville\, Nova Scotia\, Canada
ORGANIZER;CN="Bluenose%20Autosport%20Club":MAILTO:info@bluenoseautosport.ca
END:VEVENT
BEGIN:VEVENT
DTSTART;TZID=America/Sao_Paulo:20260301T090000
DTEND;TZID=America/Sao_Paulo:20260301T170000
DTSTAMP:20260425T122001
CREATED:20251029T015823Z
LAST-MODIFIED:20260216T003807Z
UID:2167-1772355600-1772384400@www.bluenoseautosport.ca
SUMMARY:RallyCross 2025-2026 Event #7
DESCRIPTION:BAC 2025-2026 RallyCross #7Sunday March 1\, 2026 at Location SMS09:00 – 16:00RallyCross\nALL entrants please Register online by 12 noon on the Saturday prior to the event.\nOnline registration will be available the week prior to the event. Each driver should register individually\, even if sharing a car. https://docs.google.com/…/1FAIpQLSc9nNhxZIeI1b…/viewform or on our website: http://bluenoseautosport.caMembership applications are available online as well.Please read the “Supplementary Regulations” on the BAC website.\nEntry cost $30. Payable by e-transfer to treasurer@bluenoseautosport.ca (use password of BAC2025)\nEnsure that you have signed the BAC online Speedwaiver before the event: https://bluenoseasc.speedwaiver.com/vbdye\nAll competitors need to help out by picking up fallen pylons or working Start.Schedule:9:00 am Check In Opens9:45 am Check In Closes10:00 am Driver’s Meeting and walk around10:30 am First car starts3:30 pm Last Car finishes (approximate)4:00 pm Course Clean Upemail address for questions: rallycross@bluenoseautosport.ca
URL:https://www.bluenoseautosport.ca/event/rallycross-2025-2026-event-7/
LOCATION:Nova Scotia
ORGANIZER;CN="Bluenose%20Autosport%20Club":MAILTO:info@bluenoseautosport.ca
END:VEVENT
BEGIN:VEVENT
DTSTART;TZID=America/Sao_Paulo:20260315T090000
DTEND;TZID=America/Sao_Paulo:20260315T170000
DTSTAMP:20260425T122001
CREATED:20251029T015904Z
LAST-MODIFIED:20260216T003847Z
UID:2169-1773565200-1773594000@www.bluenoseautosport.ca
SUMMARY:RallyCross 2025-2026 Event #8
DESCRIPTION:BAC 2025-2026 RallyCross #8Sunday March 15\, 2026 at Location SMS09:00 – 16:00RallyCross\nALL entrants please Register online by 12 noon on the Saturday prior to the event.\nOnline registration will be available the week prior to the event. Each driver should register individually\, even if sharing a car. https://docs.google.com/…/1FAIpQLSc9nNhxZIeI1b…/viewform or on our website: http://bluenoseautosport.caMembership applications are available online as well.Please read the “Supplementary Regulations” on the BAC website.\nEntry cost $30. Payable by e-transfer to treasurer@bluenoseautosport.ca (use password of BAC2025)\nEnsure that you have signed the BAC online Speedwaiver before the event: https://bluenoseasc.speedwaiver.com/vbdye\nAll competitors need to help out by picking up fallen pylons or working Start.Schedule:9:00 am Check In Opens9:45 am Check In Closes10:00 am Driver’s Meeting and walk around10:30 am First car starts3:30 pm Last Car finishes (approximate)4:00 pm Course Clean Upemail address for questions: rallycross@bluenoseautosport.ca
URL:https://www.bluenoseautosport.ca/event/rallycross-2025-2026-event-8/
LOCATION:Nova Scotia
ORGANIZER;CN="Bluenose%20Autosport%20Club":MAILTO:info@bluenoseautosport.ca
END:VEVENT
BEGIN:VEVENT
DTSTART;TZID=America/Sao_Paulo:20260331T183000
DTEND;TZID=America/Sao_Paulo:20260331T203000
DTSTAMP:20260425T122001
CREATED:20260330T000218Z
LAST-MODIFIED:20260330T000218Z
UID:2239-1774981800-1774989000@www.bluenoseautosport.ca
SUMMARY:BAC Monthly Meeting March
DESCRIPTION:Come join us at Freeman’s in Lower Sackville for a meal\, chat and a meeting. \nHelp make our club better with your ideas and contributions. \nThe room is booked for 6:30 if you want to come have dinner before the meeting at 7:30
URL:https://www.bluenoseautosport.ca/event/bac-monthly-meeting-march/
LOCATION:Freeman’s Little New York\, 552 Sackville Dr.\, Lower Sackville\, Nova Scotia\, Canada
ORGANIZER;CN="Bluenose%20Autosport%20Club":MAILTO:info@bluenoseautosport.ca
END:VEVENT
BEGIN:VEVENT
DTSTART;TZID=America/Sao_Paulo:20260428T183000
DTEND;TZID=America/Sao_Paulo:20260428T203000
DTSTAMP:20260425T122001
CREATED:20260330T000440Z
LAST-MODIFIED:20260330T000440Z
UID:2242-1777401000-1777408200@www.bluenoseautosport.ca
SUMMARY:BAC Monthly Meeting April
DESCRIPTION:Come join us at Freeman’s in Lower Sackville for a meal\, chat and a meeting. \nHelp make our club better with your ideas and contributions. \nThe room is booked for 6:30 if you want to come have dinner before the meeting at 7:30
URL:https://www.bluenoseautosport.ca/event/bac-monthly-meeting-april/
LOCATION:Freeman’s Little New York\, 552 Sackville Dr.\, Lower Sackville\, Nova Scotia\, Canada
ORGANIZER;CN="Bluenose%20Autosport%20Club":MAILTO:info@bluenoseautosport.ca
END:VEVENT
BEGIN:VEVENT
DTSTART;TZID=America/Sao_Paulo:20260509T080000
DTEND;TZID=America/Sao_Paulo:20260510T170000
DTSTAMP:20260425T122001
CREATED:20251009T201932Z
LAST-MODIFIED:20260128T232353Z
UID:2119-1778313600-1778432400@www.bluenoseautosport.ca
SUMMARY:Black Rocks Rally 2026
DESCRIPTION:Watch for details on our BAC Black Rocks website
URL:https://www.bluenoseautosport.ca/event/black-rocks-rally/
LOCATION:Mersey Road\, South Shore
ORGANIZER;CN="Bluenose%20Autosport%20Club":MAILTO:info@bluenoseautosport.ca
END:VEVENT
BEGIN:VEVENT
DTSTART;TZID=America/Sao_Paulo:20260516T120000
DTEND;TZID=America/Sao_Paulo:20260516T180000
DTSTAMP:20260425T122001
CREATED:20250401T035452Z
LAST-MODIFIED:20260425T005209Z
UID:2006-1778932800-1778954400@www.bluenoseautosport.ca
SUMMARY:Bluenose Navigational Rally
DESCRIPTION:Navigational Rally out of Windsor Saturday 2026-05-16 \nStart & Finish: Windsor Curling Club 174 Gray Street Windsor Nova Scotia\nTelephone 1 902 798 4662\nEntries: Pre-registration is encouraged. Those who enter before noon Thursday\nEntries will be accepted until 12:00 noon May 16\, 2026 however to prepare for the number of instructions and the meal at the finish early entry is encouraged.\nSchedule: Saturday May 16\, 2026:\n11:00 Registration and Scrutinizing Opens\n12:00 Introduction of Officials and Drivers’ Briefing; Registration\ncloses\n12:30 Novice Rally School starts\n13:00 Car “O” Starts Experienced\n13:20 Car “O” Novice Starts\n16:52 Car “O” Experienced Finish\n16:39 Car “0” Novice Finish.\n18:00 Awards presentation\nDash Plaques to the top three in each class. \nOnline Registration: https://docs.google.com/forms/d/e/1FAIpQLSeD6uAH2RNdXVS8uZJnjMxMmqi5XSj2bBLOWcTwpDW3JozQAQ/viewform?usp=sharing  \nSupplementary Regulations: \nhttps://www.bluenoseautosport.ca/wp-content/uploads/2026/04/2026-Supplementary-Regulations-for-the-Bluenose-Car-Rally.pdf
URL:https://www.bluenoseautosport.ca/event/bluenose-navigational-rally-2/
LOCATION:Windsor Curling Club\, 174 Gray Street\, Windsor\, Nova Scotia\, Canada
ORGANIZER;CN="Bluenose%20Autosport%20Club":MAILTO:info@bluenoseautosport.ca
END:VEVENT
BEGIN:VEVENT
DTSTART;TZID=America/Sao_Paulo:20260613T080000
DTEND;TZID=America/Sao_Paulo:20260614T170000
DTSTAMP:20260425T122001
CREATED:20250519T210318Z
LAST-MODIFIED:20260128T232335Z
UID:2049-1781337600-1781456400@www.bluenoseautosport.ca
SUMMARY:Ledwidge Lookoff Rally 2026
DESCRIPTION:Follow our BAC Website for more information \nLedwidge Lookoff Regional Rally 2026
URL:https://www.bluenoseautosport.ca/event/ledwidge-lookoff-rally-2026/
LOCATION:Tennycape\, Nova Scotia\, Tennycape\, Nova Scotia\, Canada
ORGANIZER;CN="Bluenose%20Autosport%20Club":MAILTO:info@bluenoseautosport.ca
END:VEVENT
BEGIN:VEVENT
DTSTART;TZID=America/Sao_Paulo:20260926T080000
DTEND;TZID=America/Sao_Paulo:20260927T170000
DTSTAMP:20260425T122001
CREATED:20251030T225552Z
LAST-MODIFIED:20251030T225552Z
UID:2177-1790409600-1790528400@www.bluenoseautosport.ca
SUMMARY:Trout Lake 2026
DESCRIPTION:  \nWatch for details on our BAC Trout Lake website
URL:https://www.bluenoseautosport.ca/event/trout-lake-2026/
LOCATION:Trout Lake\, 3577 Aylesford Road\, Nova Scotia\, Canada
ORGANIZER;CN="Bluenose%20Autosport%20Club":MAILTO:info@bluenoseautosport.ca
END:VEVENT
END:VCALENDAR