BEGIN:VCALENDAR
VERSION:2.0
PRODID:-// - ECPv6.0.6.2//NONSGML v1.0//EN
CALSCALE:GREGORIAN
METHOD:PUBLISH
X-ORIGINAL-URL:https://www.bluenoseautosport.ca
X-WR-CALDESC:Events for 
REFRESH-INTERVAL;VALUE=DURATION:PT1H
X-Robots-Tag:noindex
X-PUBLISHED-TTL:PT1H
BEGIN:VTIMEZONE
TZID:America/Sao_Paulo
BEGIN:STANDARD
TZOFFSETFROM:-0300
TZOFFSETTO:-0300
TZNAME:-03
DTSTART:20230101T000000
END:STANDARD
END:VTIMEZONE
BEGIN:VEVENT
DTSTART;TZID=America/Sao_Paulo:20240601T080000
DTEND;TZID=America/Sao_Paulo:20240602T170000
DTSTAMP:20260423T195301
CREATED:20231105T215843Z
LAST-MODIFIED:20231105T215843Z
UID:1336-1717228800-1717347600@www.bluenoseautosport.ca
SUMMARY:Ledwidge Lookoff Rally 2024
DESCRIPTION:June 1/2\, 2024 \nDetails to follow
URL:https://www.bluenoseautosport.ca/event/ledwidge-lookoff-rally-2024/
LOCATION:Tennycape\, Nova Scotia\, Tennycape\, Nova Scotia\, Canada
ORGANIZER;CN="Bluenose%20Autosport%20Club":MAILTO:info@bluenoseautosport.ca
END:VEVENT
BEGIN:VEVENT
DTSTART;TZID=America/Sao_Paulo:20240528T183000
DTEND;TZID=America/Sao_Paulo:20240528T203000
DTSTAMP:20260423T195301
CREATED:20240401T145432Z
LAST-MODIFIED:20240401T145432Z
UID:1628-1716921000-1716928200@www.bluenoseautosport.ca
SUMMARY:BAC General Meeting May 28
DESCRIPTION:Come join us at Freeman’s in Lower Sackville for a meal\, chat and a meeting. \nHelp make our club better with your ideas and contributions.
URL:https://www.bluenoseautosport.ca/event/bac-general-meeting-may-28/
LOCATION:Freeman’s Little New York\, 552 Sackville Dr.\, Lower Sackville\, Nova Scotia\, Canada
ORGANIZER;CN="Bluenose%20Autosport%20Club":MAILTO:info@bluenoseautosport.ca
END:VEVENT
BEGIN:VEVENT
DTSTART;TZID=America/Sao_Paulo:20240518T100000
DTEND;TZID=America/Sao_Paulo:20240518T170000
DTSTAMP:20260423T195301
CREATED:20240501T014234Z
LAST-MODIFIED:20240501T014234Z
UID:1653-1716026400-1716051600@www.bluenoseautosport.ca
SUMMARY:Falmouth Poker Rally May 18th
DESCRIPTION:
URL:https://www.bluenoseautosport.ca/event/falmouth-poker-rally-may-18th/
LOCATION:Windsor Curling Club\, 174 Gray Street\, Windsor\, Nova Scotia\, Canada
ORGANIZER;CN="Bluenose%20Autosport%20Club":MAILTO:info@bluenoseautosport.ca
END:VEVENT
BEGIN:VEVENT
DTSTART;TZID=America/Sao_Paulo:20240430T083000
DTEND;TZID=America/Sao_Paulo:20240430T210000
DTSTAMP:20260423T195301
CREATED:20240312T203154Z
LAST-MODIFIED:20240319T222149Z
UID:1608-1714465800-1714510800@www.bluenoseautosport.ca
SUMMARY:BAC General Meeting and RallyCross Awards April 30
DESCRIPTION:Come join us at Freemans for food\, drink and conversation and have a say in the way Bluenose Autosport Club is run. \nWe’ll also be presenting our 2023-2024 RallyCross Championship Awards. Come out and cheer on our competitors. \n 
URL:https://www.bluenoseautosport.ca/event/bac-general-meeting-april-30/
LOCATION:Freeman’s Little New York\, 552 Sackville Dr.\, Lower Sackville\, Nova Scotia\, Canada
ORGANIZER;CN="Bluenose%20Autosport%20Club":MAILTO:info@bluenoseautosport.ca
END:VEVENT
BEGIN:VEVENT
DTSTART;TZID=America/Sao_Paulo:20240326T183000
DTEND;TZID=America/Sao_Paulo:20240326T210000
DTSTAMP:20260423T195301
CREATED:20240223T231829Z
LAST-MODIFIED:20240223T231829Z
UID:1504-1711477800-1711486800@www.bluenoseautosport.ca
SUMMARY:BAC General Meeting - March 26th\, 2024
DESCRIPTION:Come join us at Freeman’s in Lower Sackville for a meal\, chat and a meeting. \nHelp make our club better with your ideas and contributions.
URL:https://www.bluenoseautosport.ca/event/bac-general-meeting-march-26th-2024/
LOCATION:Freeman’s Little New York\, 552 Sackville Dr.\, Lower Sackville\, Nova Scotia\, Canada
ORGANIZER;CN="Bluenose%20Autosport%20Club":MAILTO:info@bluenoseautosport.ca
END:VEVENT
BEGIN:VEVENT
DTSTART;TZID=America/Sao_Paulo:20240317T090000
DTEND;TZID=America/Sao_Paulo:20240317T160000
DTSTAMP:20260423T195301
CREATED:20231121T005517Z
LAST-MODIFIED:20240312T202212Z
UID:1382-1710666000-1710691200@www.bluenoseautosport.ca
SUMMARY:RallyCross #8 SMS - Cancelled
DESCRIPTION:Unfortunately\, due to the overwhelming amount of water on our sites\, we will be unable to run the last RallyCross for the 2023-2024 season. We are looking for additional sites for next season in an attempt to mitigate our weather issues. \n  \nThe eighth and final RallyCross event for BAC 2023-2024 season. \nALL entrants please Register online by 12 noon on Saturday\, March 16th. \nOnline registration is now available on our website http://bluenoseautosport.ca \nMemberships are available online also. \nPlease read the “SMS Supplementary Regulations” on the BAC website. \nBig Thanks to the Stewiacke Mud Slingers Club for letting us use their location at 292 Brenton Cross Road\, Middle Stewiacke. \nEntry cost $30. Payable by e-transfer to treasurer@bluenoseautosport.ca \nEnsure that you have signed the BAC online Speedwaiver before the event: https://bluenoseasc.speedwaiver.com/vbdye \nDIRECTIONS: Take exit 12 on Hwy 102; Zero odometer & keep right towards Brookfield; 0.85-Straight ahead at lights; 7.45- Turn right on to Brenton Cross Road (dirt); 8.85-caution one lane bridge; 8.92-take first right at civic 292 gated driveway. Continue down driveway to parking area. \nAll competitors need to help out by picking up fallen pylons or working Start. \nVolunteers are always welcome to assist. We’ll offer a free ride along with our exciting RallyCross drivers.
URL:https://www.bluenoseautosport.ca/event/rallycross-8-sms/
LOCATION:Stewiacke Mud Slingers\, 292 Brenton Crossing Rd.\, Birch Hill\, Nova Scotia\, Canada
ORGANIZER;CN="Bluenose%20Autosport%20Club":MAILTO:info@bluenoseautosport.ca
END:VEVENT
BEGIN:VEVENT
DTSTART;VALUE=DATE:20240308
DTEND;VALUE=DATE:20240311
DTSTAMP:20260423T195301
CREATED:20240127T155334Z
LAST-MODIFIED:20240127T155334Z
UID:1461-1709856000-1710115199@www.bluenoseautosport.ca
SUMMARY:Sports and RV Show
DESCRIPTION:ARMS will have a booth at this event. \nAs a BAC member\, if you are interested in volunteering to help chat with the public\, reach out to Brian at treasurer@armsinc.ca or Alex at hpsolo@armsinc.ca
URL:https://www.bluenoseautosport.ca/event/sports-and-rv-show/
LOCATION:Halifax Exhibition Park\, 200 Prospect Road\, Halifax\, Nova Scotia\, Canada
END:VEVENT
BEGIN:VEVENT
DTSTART;TZID=America/Sao_Paulo:20240303T090000
DTEND;TZID=America/Sao_Paulo:20240303T160000
DTSTAMP:20260423T195301
CREATED:20231121T005432Z
LAST-MODIFIED:20240301T215425Z
UID:1380-1709456400-1709481600@www.bluenoseautosport.ca
SUMMARY:RallyCross #7 SMS - Cancelled
DESCRIPTION:Due to overwhelming rain and flooding at the SMS site we had to cancel this event. \n  \nThe seventh RallyCross event for BAC 2023-2024 season. \nALL entrants please Register online by 12 noon on Saturday\, March 2nd. \nOnline registration is now available on our website http://bluenoseautosport.ca \nMemberships are available online also. \nPlease read the “SMS Supplementary Regulations” on the BAC website. \nBig Thanks to the Stewiacke Mud Slingers Club for letting us use their location at 292 Brenton Cross Road\, Middle Stewiacke. \nEntry cost $30. Payable by e-transfer to treasurer@bluenoseautosport.ca \nEnsure that you have signed the BAC online Speedwaiver before the event: https://bluenoseasc.speedwaiver.com/vbdye \nDIRECTIONS: Take exit 12 on Hwy 102; Zero odometer & keep right towards Brookfield; 0.85-Straight ahead at lights; 7.45- Turn right on to Brenton Cross Road (dirt); 8.85-caution one lane bridge; 8.92-take first right at civic 292 gated driveway. Continue down driveway to parking area. \nAll competitors need to help out by picking up fallen pylons or working Start. \nVolunteers are always welcome to assist. We’ll offer a free ride along with our exciting RallyCross drivers.
URL:https://www.bluenoseautosport.ca/event/rallycross-7-sms/
LOCATION:Stewiacke Mud Slingers\, 292 Brenton Crossing Rd.\, Birch Hill\, Nova Scotia\, Canada
ORGANIZER;CN="Bluenose%20Autosport%20Club":MAILTO:info@bluenoseautosport.ca
END:VEVENT
BEGIN:VEVENT
DTSTART;TZID=America/Sao_Paulo:20240227T183000
DTEND;TZID=America/Sao_Paulo:20240227T210000
DTSTAMP:20260423T195301
CREATED:20240218T161803Z
LAST-MODIFIED:20240218T161803Z
UID:1487-1709058600-1709067600@www.bluenoseautosport.ca
SUMMARY:BAC General Meeting - February
DESCRIPTION:Come join us at Freeman’s in Lower Sackville for a meal\, chat and a meeting. \nHelp make our club better with your ideas and contributions.
URL:https://www.bluenoseautosport.ca/event/bac-general-meeting-february/
LOCATION:Freeman’s Little New York\, 552 Sackville Dr.\, Lower Sackville\, Nova Scotia\, Canada
ORGANIZER;CN="Bluenose%20Autosport%20Club":MAILTO:info@bluenoseautosport.ca
END:VEVENT
BEGIN:VEVENT
DTSTART;TZID=America/Sao_Paulo:20240218T090000
DTEND;TZID=America/Sao_Paulo:20240218T160000
DTSTAMP:20260423T195301
CREATED:20231121T005323Z
LAST-MODIFIED:20240218T161450Z
UID:1378-1708246800-1708272000@www.bluenoseautosport.ca
SUMMARY:RallyCross # 6 SMS - Cancelled due to drifting snow
DESCRIPTION:The sixth RallyCross event for BAC 2023-2024 season. \nALL entrants please Register online by 12 noon on Saturday\, February 17th. \nOnline registration is now available on our website http://bluenoseautosport.ca \nMemberships are available online also. \nPlease read the “SMS Supplementary Regulations” on the BAC website. \nBig Thanks to the Stewiacke Mud Slingers Club for letting us use their location at 292 Brenton Cross Road\, Middle Stewiacke. \nEntry cost $30. Payable by e-transfer to treasurer@bluenoseautosport.ca \nEnsure that you have signed the BAC online Speedwaiver before the event: https://bluenoseasc.speedwaiver.com/vbdye \nDIRECTIONS: Take exit 12 on Hwy 102; Zero odometer & keep right towards Brookfield; 0.85-Straight ahead at lights; 7.45- Turn right on to Brenton Cross Road (dirt); 8.85-caution one lane bridge; 8.92-take first right at civic 292 gated driveway. Continue down driveway to parking area. \nAll competitors need to help out by picking up fallen pylons or working Start. \nVolunteers are always welcome to assist. We’ll offer a free ride along with our exciting RallyCross drivers.
URL:https://www.bluenoseautosport.ca/event/rallycross-6-sms/
LOCATION:Stewiacke Mud Slingers\, 292 Brenton Crossing Rd.\, Birch Hill\, Nova Scotia\, Canada
ORGANIZER;CN="Bluenose%20Autosport%20Club":MAILTO:info@bluenoseautosport.ca
END:VEVENT
BEGIN:VEVENT
DTSTART;TZID=America/Sao_Paulo:20240204T090000
DTEND;TZID=America/Sao_Paulo:20240204T160000
DTSTAMP:20260423T195301
CREATED:20231121T005127Z
LAST-MODIFIED:20240203T132349Z
UID:1376-1707037200-1707062400@www.bluenoseautosport.ca
SUMMARY:RallyCross #5 SMS - Cancelled due to weather
DESCRIPTION:The fifth RallyCross event for BAC 2023-2024 season – is cancelled due to heavy snow on the roads. \nALL entrants please Register online by 12 noon on Saturday\, February 3rd. \nOnline registration is now available on our website http://bluenoseautosport.ca \nMemberships are available online also. \nPlease read the “SMS Supplementary Regulations” on the BAC website. \nBig Thanks to the Stewiacke Mud Slingers Club for letting us use their location at 292 Brenton Cross Road\, Middle Stewiacke. \nEntry cost $30. Payable by e-transfer to treasurer@bluenoseautosport.ca \nEnsure that you have signed the BAC online Speedwaiver before the event: https://bluenoseasc.speedwaiver.com/vbdye \nDIRECTIONS: Take exit 12 on Hwy 102; Zero odometer & keep right towards Brookfield; 0.85-Straight ahead at lights; 7.45- Turn right on to Brenton Cross Road (dirt); 8.85-caution one lane bridge; 8.92-take first right at civic 292 gated driveway. Continue down driveway to parking area. \nAll competitors need to help out by picking up fallen pylons or working Start. \nVolunteers are always welcome to assist. We’ll offer a free ride along with our exciting RallyCross drivers.
URL:https://www.bluenoseautosport.ca/event/rallycross-5-sms/
LOCATION:Stewiacke Mud Slingers\, 292 Brenton Crossing Rd.\, Birch Hill\, Nova Scotia\, Canada
ORGANIZER;CN="Bluenose%20Autosport%20Club":MAILTO:info@bluenoseautosport.ca
END:VEVENT
BEGIN:VEVENT
DTSTART;TZID=America/Sao_Paulo:20240130T183000
DTEND;TZID=America/Sao_Paulo:20240130T210000
DTSTAMP:20260423T195301
CREATED:20240122T003243Z
LAST-MODIFIED:20240122T003243Z
UID:1456-1706639400-1706648400@www.bluenoseautosport.ca
SUMMARY:BAC General Meeting
DESCRIPTION:Come out and join us at Freemans in Sackville for dinner and a meeting and chat about motorsports. \nHeld on the last Tuesday of every month starting at 6:30 in the back room.
URL:https://www.bluenoseautosport.ca/event/bac-general-meeting/
LOCATION:Freeman’s Little New York\, 552 Sackville Dr.\, Lower Sackville\, Nova Scotia\, Canada
ORGANIZER;CN="Bluenose%20Autosport%20Club":MAILTO:info@bluenoseautosport.ca
END:VEVENT
BEGIN:VEVENT
DTSTART;TZID=America/Sao_Paulo:20240121T090000
DTEND;TZID=America/Sao_Paulo:20240121T160000
DTSTAMP:20260423T195301
CREATED:20231121T005034Z
LAST-MODIFIED:20231121T005034Z
UID:1374-1705827600-1705852800@www.bluenoseautosport.ca
SUMMARY:RallyCross #4 SMS
DESCRIPTION:The fourth RallyCross event for BAC 2023-2024 season. \nALL entrants please Register online by 12 noon on Saturday\, January 20th. \nOnline registration is now available on our website http://bluenoseautosport.ca \nMemberships are available online also. \nPlease read the “SMS Supplementary Regulations” on the BAC website. \nBig Thanks to the Stewiacke Mud Slingers Club for letting us use their location at 292 Brenton Cross Road\, Middle Stewiacke. \nEntry cost $30. Payable by e-transfer to treasurer@bluenoseautosport.ca \nEnsure that you have signed the BAC online Speedwaiver before the event: https://bluenoseasc.speedwaiver.com/vbdye \nDIRECTIONS: Take exit 12 on Hwy 102; Zero odometer & keep right towards Brookfield; 0.85-Straight ahead at lights; 7.45- Turn right on to Brenton Cross Road (dirt); 8.85-caution one lane bridge; 8.92-take first right at civic 292 gated driveway. Continue down driveway to parking area. \nAll competitors need to help out by picking up fallen pylons or working Start. \nVolunteers are always welcome to assist. We’ll offer a free ride along with our exciting RallyCross drivers.
URL:https://www.bluenoseautosport.ca/event/rallycross-4-sms/
LOCATION:Stewiacke Mud Slingers\, 292 Brenton Crossing Rd.\, Birch Hill\, Nova Scotia\, Canada
ORGANIZER;CN="Bluenose%20Autosport%20Club":MAILTO:info@bluenoseautosport.ca
END:VEVENT
BEGIN:VEVENT
DTSTART;TZID=America/Sao_Paulo:20240107T090000
DTEND;TZID=America/Sao_Paulo:20240107T160000
DTSTAMP:20260423T195301
CREATED:20231121T004849Z
LAST-MODIFIED:20231121T004849Z
UID:1372-1704618000-1704643200@www.bluenoseautosport.ca
SUMMARY:RallyCross #3 SMS
DESCRIPTION:The third RallyCross event for BAC 2023-2024 season. \nALL entrants please Register online by 12 noon on Saturday\, January 6th. \nOnline registration is now available on our website http://bluenoseautosport.ca \nMemberships are available online also. \nPlease read the “SMS Supplementary Regulations” on the BAC website. \nBig Thanks to the Stewiacke Mud Slingers Club for letting us use their location at 292 Brenton Cross Road\, Middle Stewiacke. \nEntry cost $30. Payable by e-transfer to treasurer@bluenoseautosport.ca \nEnsure that you have signed the BAC online Speedwaiver before the event: https://bluenoseasc.speedwaiver.com/vbdye \nDIRECTIONS: Take exit 12 on Hwy 102; Zero odometer & keep right towards Brookfield; 0.85-Straight ahead at lights; 7.45- Turn right on to Brenton Cross Road (dirt); 8.85-caution one lane bridge; 8.92-take first right at civic 292 gated driveway. Continue down driveway to parking area. \nAll competitors need to help out by picking up fallen pylons or working Start. \nVolunteers are always welcome to assist. We’ll offer a free ride along with our exciting RallyCross drivers.
URL:https://www.bluenoseautosport.ca/event/rallycross-3-sms/
LOCATION:Stewiacke Mud Slingers\, 292 Brenton Crossing Rd.\, Birch Hill\, Nova Scotia\, Canada
ORGANIZER;CN="Bluenose%20Autosport%20Club":MAILTO:info@bluenoseautosport.ca
END:VEVENT
BEGIN:VEVENT
DTSTART;TZID=America/Sao_Paulo:20231227T183000
DTEND;TZID=America/Sao_Paulo:20231227T220000
DTSTAMP:20260423T195301
CREATED:20231121T004547Z
LAST-MODIFIED:20231130T215622Z
UID:1370-1703701800-1703714400@www.bluenoseautosport.ca
SUMMARY:BAC Christmas Party
DESCRIPTION:Come join your fellow motorsport enthusiasts for food\, drink\, and storytelling at Parkside Pub & Smokehouse\, 14 Highfield Park\, Dartmouth. \nBring a friend! \nPlease respond to info@bluenoseautosport.ca if you plan to attend. \n 
URL:https://www.bluenoseautosport.ca/event/bac-christmas-party/
LOCATION:Parkside Pub\, 14 Highfield Park Dr\, Dartmouth\, Nova Scotia\, B3A 4T6\, Canada
ORGANIZER;CN="Bluenose%20Autosport%20Club":MAILTO:info@bluenoseautosport.ca
END:VEVENT
BEGIN:VEVENT
DTSTART;TZID=America/Sao_Paulo:20231210T090000
DTEND;TZID=America/Sao_Paulo:20231210T153000
DTSTAMP:20260423T195301
CREATED:20231023T205157Z
LAST-MODIFIED:20231023T205157Z
UID:1331-1702198800-1702222200@www.bluenoseautosport.ca
SUMMARY:RallyCross #2 2023-2024 SMS
DESCRIPTION:The second RallyCross event for BAC 2023-2024 season. \nALL entrants please Register online by 12 noon on Saturday\, December 9th. \nOnline registration is now available on our website http://bluenoseautosport.ca \nMemberships are available online also. \nPlease read the “SMS Supplementary Regulations” on the BAC website. \nBig Thanks to the Stewiacke Mud Slingers Club for letting us use their location at 292 Brenton Cross Road\, Middle Stewiacke. \nEntry cost $30. Payable by e-transfer to treasurer@bluenoseautosport.ca \nEnsure that you have signed the BAC online Speedwaiver before the event: https://bluenoseasc.speedwaiver.com/vbdye \nDIRECTIONS: Take exit 12 on Hwy 102; Zero odometer & keep right towards Brookfield; 0.85-Straight ahead at lights; 7.45- Turn right on to Brenton Cross Road (dirt); 8.85-caution one lane bridge; 8.92-take first right at civic 292 gated driveway. Continue down driveway to parking area. \nAll competitors need to help out by picking up fallen pylons or working Start.
URL:https://www.bluenoseautosport.ca/event/rallycross-2-2023-2024-sms/
LOCATION:Stewiacke Mud Slingers\, 292 Brenton Crossing Rd.\, Birch Hill\, Nova Scotia\, Canada
ORGANIZER;CN="Bluenose%20Autosport%20Club":MAILTO:info@bluenoseautosport.ca
END:VEVENT
BEGIN:VEVENT
DTSTART;TZID=America/Sao_Paulo:20231118T080000
DTEND;TZID=America/Sao_Paulo:20231119T170000
DTSTAMP:20260423T195301
CREATED:20230301T003011Z
LAST-MODIFIED:20231117T230014Z
UID:1195-1700294400-1700413200@www.bluenoseautosport.ca
SUMMARY:Ledwidge LookOff Rally
DESCRIPTION:This event has was intended to be our first performance rally\, but had to be rescheduled. This event will be a Regional. \nSupplementary Regulations \nSafety Plan \nBulletin 4
URL:https://www.bluenoseautosport.ca/event/ledwidge-lookoff-rally/
LOCATION:Tennycape\, Nova Scotia\, Tennycape\, Nova Scotia\, Canada
ORGANIZER;CN="Bluenose%20Autosport%20Club":MAILTO:info@bluenoseautosport.ca
END:VEVENT
BEGIN:VEVENT
DTSTART;TZID=America/Sao_Paulo:20231112T090000
DTEND;TZID=America/Sao_Paulo:20231112T153000
DTSTAMP:20260423T195301
CREATED:20231023T204934Z
LAST-MODIFIED:20231023T204934Z
UID:1329-1699779600-1699803000@www.bluenoseautosport.ca
SUMMARY:RallyCross #1 2023-2024 Season - SMS
DESCRIPTION:The first RallyCross event for BAC 2023-2024 season. \nALL entrants please Register online by 12 noon on Saturday\, November 11th. \nOnline registration is now available on our website http://bluenoseautosport.ca \nMemberships are available online also. \nPlease read the “SMS Supplementary Regulations” on the BAC website. \nBig Thanks to the Stewiacke Mud Slingers Club for letting us use their location at 292 Brenton Cross Road\, Middle Stewiacke. \nEntry cost $30. Payable by e-transfer to treasurer@bluenoseautosport.ca \nEnsure that you have signed the BAC online Speedwaiver before the event: https://bluenoseasc.speedwaiver.com/vbdye \nDIRECTIONS: Take exit 12 on Hwy 102; Zero odometer & keep right towards Brookfield; 0.85-Straight ahead at lights; 7.45- Turn right on to Brenton Cross Road (dirt); 8.85-caution one lane bridge; 8.92-take first right at civic 292 gated driveway. Continue down driveway to parking area. \nAll competitors need to help out by picking up fallen pylons or working Start.
URL:https://www.bluenoseautosport.ca/event/rallycross-1-2023-2024-season-sms/
LOCATION:Stewiacke Mud Slingers\, 292 Brenton Crossing Rd.\, Birch Hill\, Nova Scotia\, Canada
ORGANIZER;CN="Bluenose%20Autosport%20Club":MAILTO:info@bluenoseautosport.ca
END:VEVENT
BEGIN:VEVENT
DTSTART;TZID=America/Sao_Paulo:20230923T080000
DTEND;TZID=America/Sao_Paulo:20230924T170000
DTSTAMP:20260423T195301
CREATED:20230301T011853Z
LAST-MODIFIED:20230912T224657Z
UID:1197-1695456000-1695574800@www.bluenoseautosport.ca
SUMMARY:Trout Lake Rally
DESCRIPTION:Our second and final performance rally will be in the Berwick/Greenwood area. This event will be a Regional. \nSupplementary Regulations \nSafety Plan \nBulletin 1 – May 17/23 \nBulletin 2 – May 29/23
URL:https://www.bluenoseautosport.ca/event/trout-lake-rally/
LOCATION:Trout Lake\, 3577 Aylesford Road\, Nova Scotia\, Canada
ORGANIZER;CN="Bluenose%20Autosport%20Club":MAILTO:info@bluenoseautosport.ca
END:VEVENT
BEGIN:VEVENT
DTSTART;TZID=America/Sao_Paulo:20230903T090000
DTEND;TZID=America/Sao_Paulo:20230903T170000
DTSTAMP:20260423T195301
CREATED:20230421T224605Z
LAST-MODIFIED:20230421T224605Z
UID:1250-1693731600-1693760400@www.bluenoseautosport.ca
SUMMARY:Summer RallyCross
DESCRIPTION:Our final summer RallyCross event of the season is here! Come on out to Stewiacke Mudslingers for this fun RallyCross event.
URL:https://www.bluenoseautosport.ca/event/summer-rallycross-3/
LOCATION:Stewiacke Mud Slingers\, 292 Brenton Crossing Rd.\, Birch Hill\, Nova Scotia\, Canada
ORGANIZER;CN="Bluenose%20Autosport%20Club":MAILTO:info@bluenoseautosport.ca
END:VEVENT
BEGIN:VEVENT
DTSTART;TZID=America/Sao_Paulo:20230730T090000
DTEND;TZID=America/Sao_Paulo:20230730T170000
DTSTAMP:20260423T195301
CREATED:20230421T224504Z
LAST-MODIFIED:20230421T224504Z
UID:1248-1690707600-1690736400@www.bluenoseautosport.ca
SUMMARY:Summer RallyCross
DESCRIPTION:Our second summer RallyCross is here! We’re back at Stewiacke Mudslingers and we hope to see you there for this fun event.
URL:https://www.bluenoseautosport.ca/event/summer-rallycross-2/
LOCATION:Stewiacke Mud Slingers\, 292 Brenton Crossing Rd.\, Birch Hill\, Nova Scotia\, Canada
ORGANIZER;CN="Bluenose%20Autosport%20Club":MAILTO:info@bluenoseautosport.ca
END:VEVENT
BEGIN:VEVENT
DTSTART;TZID=America/Sao_Paulo:20230625T090000
DTEND;TZID=America/Sao_Paulo:20230625T170000
DTSTAMP:20260423T195301
CREATED:20230421T224406Z
LAST-MODIFIED:20230421T224406Z
UID:1246-1687683600-1687712400@www.bluenoseautosport.ca
SUMMARY:Summer RallyCross
DESCRIPTION:Our first of three summer RallyCross events is here! We’ll be at Stewiacke Mudslingers for a fun\, hopefully warm\, RallyCross event.
URL:https://www.bluenoseautosport.ca/event/summer-rallycross/
LOCATION:Stewiacke Mud Slingers\, 292 Brenton Crossing Rd.\, Birch Hill\, Nova Scotia\, Canada
ORGANIZER;CN="Bluenose%20Autosport%20Club":MAILTO:info@bluenoseautosport.ca
END:VEVENT
BEGIN:VEVENT
DTSTART;TZID=America/Sao_Paulo:20230530T193000
DTEND;TZID=America/Sao_Paulo:20230530T213000
DTSTAMP:20260423T195301
CREATED:20230524T215423Z
LAST-MODIFIED:20230524T215423Z
UID:1275-1685475000-1685482200@www.bluenoseautosport.ca
SUMMARY:BAC Monthly General Meeting
DESCRIPTION:Our May General Meeting will be May 30th at Freeman’s Little New York in Sackville! The meeting starts at 7:30 but you can join us at 6:30 for a bite to eat before the meeting!
URL:https://www.bluenoseautosport.ca/event/bac-monthly-general-meeting-3/
LOCATION:Freeman’s Little New York\, 552 Sackville Dr.\, Lower Sackville\, Nova Scotia\, Canada
ORGANIZER;CN="Bluenose%20Autosport%20Club":MAILTO:info@bluenoseautosport.ca
END:VEVENT
BEGIN:VEVENT
DTSTART;TZID=America/Sao_Paulo:20230425T183000
DTEND;TZID=America/Sao_Paulo:20230425T213000
DTSTAMP:20260423T195301
CREATED:20230421T223314Z
LAST-MODIFIED:20230421T223314Z
UID:1238-1682447400-1682458200@www.bluenoseautosport.ca
SUMMARY:RallyCross Awards & BAC Monthly Meeting
DESCRIPTION:Join us at Freeman’s Little New York in Sackville at 6:30 as we hand out our club rallycross awards from this past season! Grab a bite to eat and stay for our monthly general meeting that starts at 7:30.
URL:https://www.bluenoseautosport.ca/event/rallycross-awards-bac-monthly-meeting/
LOCATION:Freeman’s Little New York\, 552 Sackville Dr.\, Lower Sackville\, Nova Scotia\, Canada
ORGANIZER;CN="Bluenose%20Autosport%20Club":MAILTO:info@bluenoseautosport.ca
END:VEVENT
BEGIN:VEVENT
DTSTART;TZID=America/Sao_Paulo:20230422T110000
DTEND;TZID=America/Sao_Paulo:20230422T190000
DTSTAMP:20260423T195301
CREATED:20230409T213638Z
LAST-MODIFIED:20230419T193418Z
UID:1232-1682161200-1682190000@www.bluenoseautosport.ca
SUMMARY:Bluenose Rally
DESCRIPTION:The Bluenose Car Rally will take place on April 22\, starting at the Windsor Curling Club. Pre-registration closes April 21 at 12 noon. The entry fee for Experienced teams is $25 and the entry fee for Novice teams is $20. Entry fees can be paid via etransfer to treasurer@bluenoseautosport.ca with the password BAC2023. Make sure to leave a note with the transfer stating what it’s for. \nRegistration \nSupplementary Regulations \nSchedule: \n11:00 – Registration & Scrutineering open \n12:00 – Introduction of Officials & Drivers’ Briefing (Registration closes) \n12:30 – Novice Rally School starts \n13:00 – Car “0” Experienced starts \n13:21 – Car “0” Novice starts \n16:53 – Car “0” Novice finishes \n17:07 – Car “0” Experienced finishes \n18:30 – Awards Presentation
URL:https://www.bluenoseautosport.ca/event/bluenose-rally/
LOCATION:Nova Scotia
ORGANIZER;CN="Bluenose%20Autosport%20Club":MAILTO:info@bluenoseautosport.ca
END:VEVENT
BEGIN:VEVENT
DTSTART;TZID=America/Sao_Paulo:20230328T193000
DTEND;TZID=America/Sao_Paulo:20230328T213000
DTSTAMP:20260423T195301
CREATED:20230310T033849Z
LAST-MODIFIED:20230310T033849Z
UID:1204-1680031800-1680039000@www.bluenoseautosport.ca
SUMMARY:BAC Monthly Meeting
DESCRIPTION:Join us at Freeman’s Little New York for our monthly general meeting. The meeting starts at 7:30pm\, but we welcome all members to join us at 6:30 for a bite to eat. \nSee you there!
URL:https://www.bluenoseautosport.ca/event/bac-monthly-meeting/
LOCATION:Freeman’s Little New York\, 552 Sackville Dr.\, Lower Sackville\, Nova Scotia\, Canada
ORGANIZER;CN="Bluenose%20Autosport%20Club":MAILTO:info@bluenoseautosport.ca
END:VEVENT
BEGIN:VEVENT
DTSTART;TZID=America/Sao_Paulo:20230305T090000
DTEND;TZID=America/Sao_Paulo:20230305T170000
DTSTAMP:20260423T195301
CREATED:20230222T015220Z
LAST-MODIFIED:20230222T015220Z
UID:1184-1678006800-1678035600@www.bluenoseautosport.ca
SUMMARY:BAC RallyCross
DESCRIPTION:We’re back at SMS for our March 5th rallycross!
URL:https://www.bluenoseautosport.ca/event/bac-rallycross-5/
LOCATION:Stewiacke Mud Slingers\, 292 Brenton Crossing Rd.\, Birch Hill\, Nova Scotia\, Canada
ORGANIZER;CN="Bluenose%20Autosport%20Club":MAILTO:info@bluenoseautosport.ca
END:VEVENT
BEGIN:VEVENT
DTSTART;TZID=America/Sao_Paulo:20230228T193000
DTEND;TZID=America/Sao_Paulo:20230228T213000
DTSTAMP:20260423T195301
CREATED:20230103T152341Z
LAST-MODIFIED:20230103T152341Z
UID:1155-1677612600-1677619800@www.bluenoseautosport.ca
SUMMARY:BAC Monthly General Meeting
DESCRIPTION:Join us at Freeman’s Little New York for our monthly general meeting. Please participate and help guide the direction of our club. The gavel falls at 7:30 pm but many of us show up early for a bite and refreshments. \nSee you there!
URL:https://www.bluenoseautosport.ca/event/bac-monthly-general-meeting-2/
LOCATION:Freeman’s Little New York\, 552 Sackville Dr.\, Lower Sackville\, Nova Scotia\, Canada
ORGANIZER;CN="Bluenose%20Autosport%20Club":MAILTO:info@bluenoseautosport.ca
END:VEVENT
BEGIN:VEVENT
DTSTART;TZID=America/Sao_Paulo:20230219T090000
DTEND;TZID=America/Sao_Paulo:20230219T170000
DTSTAMP:20260423T195301
CREATED:20230103T144120Z
LAST-MODIFIED:20230103T144120Z
UID:1153-1676797200-1676826000@www.bluenoseautosport.ca
SUMMARY:BAC RallyCross
DESCRIPTION:We’re back at Atlantic Motorsport Park for this event; please see the AMP Supplementary Regulations on our RallyCross page for more info!
URL:https://www.bluenoseautosport.ca/event/bac-rallycross-3/
LOCATION:Atlantic Motorsport Park\, 266 Racetrack Rd.\, Mill Village\, Nova Scotia\, Canada
ORGANIZER;CN="Bluenose%20Autosport%20Club":MAILTO:info@bluenoseautosport.ca
END:VEVENT
BEGIN:VEVENT
DTSTART;TZID=America/Sao_Paulo:20230205T090000
DTEND;TZID=America/Sao_Paulo:20230205T170000
DTSTAMP:20260423T195301
CREATED:20230103T143556Z
LAST-MODIFIED:20230201T141517Z
UID:1150-1675587600-1675616400@www.bluenoseautosport.ca
SUMMARY:BAC RallyCross
DESCRIPTION:We’ll be back at Atlantic Motorsport Park (AMP) for our next RallyCross on February 5. Check our RallyCross page for more information including the Supplementary Regulations.
URL:https://www.bluenoseautosport.ca/event/bac-rallycross-2/
LOCATION:Atlantic Motorsport Park\, 266 Racetrack Rd.\, Mill Village\, Nova Scotia\, Canada
ORGANIZER;CN="Bluenose%20Autosport%20Club":MAILTO:info@bluenoseautosport.ca
END:VEVENT
END:VCALENDAR