BEGIN:VCALENDAR
VERSION:2.0
PRODID:-// - ECPv6.0.6.2//NONSGML v1.0//EN
CALSCALE:GREGORIAN
METHOD:PUBLISH
X-ORIGINAL-URL:https://www.bluenoseautosport.ca
X-WR-CALDESC:Events for 
REFRESH-INTERVAL;VALUE=DURATION:PT1H
X-Robots-Tag:noindex
X-PUBLISHED-TTL:PT1H
BEGIN:VTIMEZONE
TZID:America/Sao_Paulo
BEGIN:STANDARD
TZOFFSETFROM:-0300
TZOFFSETTO:-0300
TZNAME:-03
DTSTART:20230101T000000
END:STANDARD
END:VTIMEZONE
BEGIN:VEVENT
DTSTART;TZID=America/Sao_Paulo:20230131T193000
DTEND;TZID=America/Sao_Paulo:20230131T213000
DTSTAMP:20260425T221944
CREATED:20230103T143355Z
LAST-MODIFIED:20230103T143730Z
UID:1148-1675193400-1675200600@www.bluenoseautosport.ca
SUMMARY:BAC Monthly General Meeting
DESCRIPTION:Come meet your new executive members and discuss the 2023 motorsport season. We’ll be at Freeman’s Little New York in Lower Sackville; the meeting will begin at 7:30 pm (although a number of members show up early for a bite before the meeting). \nCome out and support your club!
URL:https://www.bluenoseautosport.ca/event/bac-monthly-general-meeting/
LOCATION:Freeman’s Little New York\, 552 Sackville Dr.\, Lower Sackville\, Nova Scotia\, Canada
ORGANIZER;CN="Bluenose%20Autosport%20Club":MAILTO:info@bluenoseautosport.ca
END:VEVENT
BEGIN:VEVENT
DTSTART;TZID=America/Sao_Paulo:20230122T090000
DTEND;TZID=America/Sao_Paulo:20230122T170000
DTSTAMP:20260425T221944
CREATED:20230103T143118Z
LAST-MODIFIED:20230103T144234Z
UID:1146-1674378000-1674406800@www.bluenoseautosport.ca
SUMMARY:BAC RallyCross
DESCRIPTION:Come join us at Atlantic Motorsport Park for the next event in our winter RallyCross series. See our AMP Supplementary Regulations for more information!
URL:https://www.bluenoseautosport.ca/event/bac-rallycross/
LOCATION:Atlantic Motorsport Park\, 266 Racetrack Rd.\, Mill Village\, Nova Scotia\, Canada
ORGANIZER;CN="Bluenose%20Autosport%20Club":MAILTO:info@bluenoseautosport.ca
END:VEVENT
BEGIN:VEVENT
DTSTART;VALUE=DATE:20230108
DTEND;VALUE=DATE:20230109
DTSTAMP:20260425T221944
CREATED:20221201T115827Z
LAST-MODIFIED:20221201T115827Z
UID:1124-1673136000-1673222399@www.bluenoseautosport.ca
SUMMARY:BAC RallyCross
DESCRIPTION:Event #4 of our winter RallyCross series will go ahead on January 8 at the SMS site in Stewiacke. Check the supplementary regulations for more info!
URL:https://www.bluenoseautosport.ca/event/bac-rallycross-4/
LOCATION:Stewiacke Mud Slingers\, 292 Brenton Crossing Rd.\, Birch Hill\, Nova Scotia\, Canada
ORGANIZER;CN="Bluenose%20Autosport%20Club":MAILTO:info@bluenoseautosport.ca
END:VEVENT
END:VCALENDAR