BEGIN:VCALENDAR
VERSION:2.0
PRODID:-// - ECPv6.0.6.2//NONSGML v1.0//EN
CALSCALE:GREGORIAN
METHOD:PUBLISH
X-ORIGINAL-URL:https://www.bluenoseautosport.ca
X-WR-CALDESC:Events for 
REFRESH-INTERVAL;VALUE=DURATION:PT1H
X-Robots-Tag:noindex
X-PUBLISHED-TTL:PT1H
BEGIN:VTIMEZONE
TZID:America/Sao_Paulo
BEGIN:STANDARD
TZOFFSETFROM:-0300
TZOFFSETTO:-0300
TZNAME:-03
DTSTART:20230101T000000
END:STANDARD
END:VTIMEZONE
BEGIN:VEVENT
DTSTART;VALUE=DATE:20230108
DTEND;VALUE=DATE:20230109
DTSTAMP:20260424T092201
CREATED:20221201T115827Z
LAST-MODIFIED:20221201T115827Z
UID:1124-1673136000-1673222399@www.bluenoseautosport.ca
SUMMARY:BAC RallyCross
DESCRIPTION:Event #4 of our winter RallyCross series will go ahead on January 8 at the SMS site in Stewiacke. Check the supplementary regulations for more info!
URL:https://www.bluenoseautosport.ca/event/bac-rallycross-4/
LOCATION:Stewiacke Mud Slingers\, 292 Brenton Crossing Rd.\, Birch Hill\, Nova Scotia\, Canada
ORGANIZER;CN="Bluenose%20Autosport%20Club":MAILTO:info@bluenoseautosport.ca
END:VEVENT
END:VCALENDAR