BEGIN:VCALENDAR
VERSION:2.0
PRODID:-// - ECPv6.0.6.2//NONSGML v1.0//EN
CALSCALE:GREGORIAN
METHOD:PUBLISH
X-ORIGINAL-URL:https://www.bluenoseautosport.ca
X-WR-CALDESC:Events for 
REFRESH-INTERVAL;VALUE=DURATION:PT1H
X-Robots-Tag:noindex
X-PUBLISHED-TTL:PT1H
BEGIN:VTIMEZONE
TZID:America/Sao_Paulo
BEGIN:STANDARD
TZOFFSETFROM:-0300
TZOFFSETTO:-0300
TZNAME:-03
DTSTART:20250101T000000
END:STANDARD
END:VTIMEZONE
BEGIN:VEVENT
DTSTART;TZID=America/Sao_Paulo:20251114T190000
DTEND;TZID=America/Sao_Paulo:20251116T130000
DTSTAMP:20260425T134848
CREATED:20251029T011523Z
LAST-MODIFIED:20251029T011523Z
UID:2153-1763146800-1763298000@www.bluenoseautosport.ca
SUMMARY:ARMS AGM
DESCRIPTION:Who? The Atlantic Sports Car Club is hosting the ARMS 2025 AGM with the awards banquet presented by Maritime Auto Glass and Atlantic Acura. \nWHAT? Atlantic Region Motor Sports Annual General Meeting and Awards Banquet \nWHEN? November 14/15/16\, 2025 \nWHERE? Glengarry Best Western\, 150 Willow St\, Truro\, NS \nHOW? Call 1-902-893-4311 for rooms and ask for “Atlantic Region Motor Sport Guests” to reserve your room – Queen size $176.00 a night – Breakfast Included!! *Reserve your room by October 10* \nWHY? Because you should want to attend the Admin workshop from 7 to 9 pm Fri the 14th to see what is on the agenda for the weekend\, after which there will be a social and cash bar from 9 to 11 pm. Then workshops on Sat the 15th all day from 9:30 to 5:00\, see schedule below. The workshops are where rules and changes will be decided for next season. And of course the banquet and awards presentation that evening from 6:30 to 11:00 pm. Then the actual AGM and elections will take place Sunday the 16th from 9 to 12 noon followed by the calendar meeting. \nWe hope you’ll attend the awards banquet on Saturday night too\, we plan to have great food and entertainment to help us celebrate all the competition that we have enjoyed this past year and to help ASCC celebrate our 70th anniversary. Ticket prices will be $45.00 before subsidies\, deadline for the final numbers for dinner will be Nov 1. \nBuffet choices will be roasted Barron of Beef with mushrooms or pesto marinated Chicken Breast with cream sauce. Please email the required number of tickets\, the names of attendees\, and your buffet selection to banquet@ascc.ca . Payment can be made by e-transfer to payments@ascc.ca (please note what the payment is for) or cash before the event. \nFriday:\n7:00pm – 9:00pm: Administration Workshop\n9:00pm – 11:00pm: Cash Bar / Social \nSaturday:\n9:30am – 11:00am: Solosport Workshop\n11:00am – 12:30pm: Rally Workshop\n1:00pm – 2:30pm: Kart Workshop\n2:30pm – 5:00pm: Race Workshop\n6:00pm – 6:30pm: Cocktails\n6:30pm – 7:00pm: Banquet Dinner\n7:00pm – 11:00pm: Awards\, Cash Bar\, Entertainment \nSunday:\n9:00am – 12:00pm: Annual General Meeting\n12:00pm – 1:00pm: Calendar Meeting
URL:https://www.bluenoseautosport.ca/event/arms-agm/
LOCATION:Glengarry Best Western\, 150 Willow St\, Truro\, Nova Scotia\, Canada
END:VEVENT
BEGIN:VEVENT
DTSTART;TZID=America/Sao_Paulo:20251123T080000
DTEND;TZID=America/Sao_Paulo:20251123T170000
DTSTAMP:20260425T134848
CREATED:20251021T211656Z
LAST-MODIFIED:20251029T011136Z
UID:2136-1763884800-1763917200@www.bluenoseautosport.ca
SUMMARY:RallyCross #1 November 23
DESCRIPTION:RallyCross #1 TBD Nov 23\n\nNovember 23 @ 08:00 – 17:00\n\n\n\nRallyCross \nALL entrants please Register online by 12 noon on Saturday\, November 22nd\nOnline registration is now available here. Each driver should register individually\, even if sharing a car.\nRegistration also available on our website: http://bluenoseautosport.ca\nMembership applications are available online as well.\nPlease read the “Supplementary Regulations” on the BAC website.\nEntry cost $30. Payable by e-transfer to treasurer@bluenoseautosport.ca (use password of BAC2025)\nEnsure that you have signed the BAC online Speedwaiver before the event: https://bluenoseasc.speedwaiver.com/vbdye\nBring a bit of cash for our 50/50 draw. \n\nLocation to be determined shortly. \n\n  \n 
URL:https://www.bluenoseautosport.ca/event/rallycross-1-november-23/
LOCATION:Nova Scotia
ORGANIZER;CN="Bluenose%20Autosport%20Club":MAILTO:info@bluenoseautosport.ca
END:VEVENT
BEGIN:VEVENT
DTSTART;TZID=America/Sao_Paulo:20251125T193000
DTEND;TZID=America/Sao_Paulo:20251125T193000
DTSTAMP:20260425T134848
CREATED:20251029T010014Z
LAST-MODIFIED:20251029T010014Z
UID:2144-1764099000-1764099000@www.bluenoseautosport.ca
SUMMARY:BAC AGM Meeting
DESCRIPTION:Come join us at Freeman’s in Lower Sackville for a meal\, chat and our Annual General Meeting. \nHelp make our club better with your ideas and contributions. \nThe room is booked for 6:30 if you want to come have dinner before the meeting at 7:30 \nAlternately\, you can join virtually at: https://meet.google.com/pwf-rmrz-zra \n 
URL:https://www.bluenoseautosport.ca/event/bac-agm-meeting/
LOCATION:Freeman’s Little New York\, 552 Sackville Dr.\, Lower Sackville\, Nova Scotia\, Canada
ORGANIZER;CN="Bluenose%20Autosport%20Club":MAILTO:info@bluenoseautosport.ca
END:VEVENT
END:VCALENDAR