BEGIN:VCALENDAR
VERSION:2.0
PRODID:-// - ECPv6.0.6.2//NONSGML v1.0//EN
CALSCALE:GREGORIAN
METHOD:PUBLISH
X-ORIGINAL-URL:https://www.bluenoseautosport.ca
X-WR-CALDESC:Events for 
REFRESH-INTERVAL;VALUE=DURATION:PT1H
X-Robots-Tag:noindex
X-PUBLISHED-TTL:PT1H
BEGIN:VTIMEZONE
TZID:America/Sao_Paulo
BEGIN:STANDARD
TZOFFSETFROM:-0300
TZOFFSETTO:-0300
TZNAME:-03
DTSTART:20260101T000000
END:STANDARD
END:VTIMEZONE
BEGIN:VEVENT
DTSTART;TZID=America/Sao_Paulo:20260104T090000
DTEND;TZID=America/Sao_Paulo:20260104T170000
DTSTAMP:20260425T103132
CREATED:20251029T010742Z
LAST-MODIFIED:20251029T011222Z
UID:2146-1767517200-1767546000@www.bluenoseautosport.ca
SUMMARY:RallyCross 2025-2026 Event #3
DESCRIPTION:BAC 2025-2026 RallyCross #3Sunday January 4\, 2026 at Location TBD09:00 – 16:00RallyCross\nALL entrants please Register online by 12 noon on the Saturday prior to the event.\nOnline registration will be available the week prior to the event. Each driver should register individually\, even if sharing a car. https://docs.google.com/…/1FAIpQLSc9nNhxZIeI1b…/viewform or on our website: http://bluenoseautosport.caMembership applications are available online as well.Please read the “Supplementary Regulations” on the BAC website.\nEntry cost $30. Payable by e-transfer to treasurer@bluenoseautosport.ca (use password of BAC2025)\nEnsure that you have signed the BAC online Speedwaiver before the event: https://bluenoseasc.speedwaiver.com/vbdye\nAll competitors need to help out by picking up fallen pylons or working Start.Schedule:9:00 am Check In Opens9:45 am Check In Closes10:00 am Driver’s Meeting and walk around10:30 am First car starts3:30 pm Last Car finishes (approximate)4:00 pm Course Clean Upemail address for questions: rallycross@bluenoseautosport.ca
URL:https://www.bluenoseautosport.ca/event/rallycross-2025-2026-event-1/
LOCATION:Nova Scotia
ORGANIZER;CN="Bluenose%20Autosport%20Club":MAILTO:info@bluenoseautosport.ca
END:VEVENT
BEGIN:VEVENT
DTSTART;TZID=America/Sao_Paulo:20260118T090000
DTEND;TZID=America/Sao_Paulo:20260118T170000
DTSTAMP:20260425T103132
CREATED:20251029T015634Z
LAST-MODIFIED:20251029T015634Z
UID:2161-1768726800-1768755600@www.bluenoseautosport.ca
SUMMARY:RallyCross 2025-2026 Event #4
DESCRIPTION:BAC 2025-2026 RallyCross #4Sunday January 18\, 2026 at Location TBD09:00 – 16:00RallyCross\nALL entrants please Register online by 12 noon on the Saturday prior to the event.\nOnline registration will be available the week prior to the event. Each driver should register individually\, even if sharing a car. https://docs.google.com/…/1FAIpQLSc9nNhxZIeI1b…/viewform or on our website: http://bluenoseautosport.caMembership applications are available online as well.Please read the “Supplementary Regulations” on the BAC website.\nEntry cost $30. Payable by e-transfer to treasurer@bluenoseautosport.ca (use password of BAC2025)\nEnsure that you have signed the BAC online Speedwaiver before the event: https://bluenoseasc.speedwaiver.com/vbdye\nAll competitors need to help out by picking up fallen pylons or working Start.Schedule:9:00 am Check In Opens9:45 am Check In Closes10:00 am Driver’s Meeting and walk around10:30 am First car starts3:30 pm Last Car finishes (approximate)4:00 pm Course Clean Upemail address for questions: rallycross@bluenoseautosport.ca
URL:https://www.bluenoseautosport.ca/event/rallycross-2025-2026-event-4/
LOCATION:Nova Scotia
ORGANIZER;CN="Bluenose%20Autosport%20Club":MAILTO:info@bluenoseautosport.ca
END:VEVENT
BEGIN:VEVENT
DTSTART;TZID=America/Sao_Paulo:20260127T193000
DTEND;TZID=America/Sao_Paulo:20260127T213000
DTSTAMP:20260425T103132
CREATED:20260105T231958Z
LAST-MODIFIED:20260105T231958Z
UID:2199-1769542200-1769549400@www.bluenoseautosport.ca
SUMMARY:BAC Monthly General Meeting
DESCRIPTION:Come join us at Freeman’s in Lower Sackville for a meal\, chat and a meeting. \nHelp make our club better with your ideas and contributions. \nThe room is booked for 6:30 if you want to come have dinner before the meeting at 7:30
URL:https://www.bluenoseautosport.ca/event/bac-monthly-general-meeting-5/
LOCATION:Freeman’s Little New York\, 552 Sackville Dr.\, Lower Sackville\, Nova Scotia\, Canada
ORGANIZER;CN="Bluenose%20Autosport%20Club":MAILTO:info@bluenoseautosport.ca
END:VEVENT
END:VCALENDAR