BEGIN:VCALENDAR
VERSION:2.0
PRODID:-// - ECPv6.0.6.2//NONSGML v1.0//EN
CALSCALE:GREGORIAN
METHOD:PUBLISH
X-ORIGINAL-URL:https://www.bluenoseautosport.ca
X-WR-CALDESC:Events for 
REFRESH-INTERVAL;VALUE=DURATION:PT1H
X-Robots-Tag:noindex
X-PUBLISHED-TTL:PT1H
BEGIN:VTIMEZONE
TZID:America/Sao_Paulo
BEGIN:STANDARD
TZOFFSETFROM:-0300
TZOFFSETTO:-0300
TZNAME:-03
DTSTART:20260101T000000
END:STANDARD
END:VTIMEZONE
BEGIN:VEVENT
DTSTART;TZID=America/Sao_Paulo:20260509T080000
DTEND;TZID=America/Sao_Paulo:20260510T170000
DTSTAMP:20260423T080123
CREATED:20251009T201932Z
LAST-MODIFIED:20260128T232353Z
UID:2119-1778313600-1778432400@www.bluenoseautosport.ca
SUMMARY:Black Rocks Rally 2026
DESCRIPTION:Watch for details on our BAC Black Rocks website
URL:https://www.bluenoseautosport.ca/event/black-rocks-rally/
LOCATION:Mersey Road\, South Shore
ORGANIZER;CN="Bluenose%20Autosport%20Club":MAILTO:info@bluenoseautosport.ca
END:VEVENT
BEGIN:VEVENT
DTSTART;TZID=America/Sao_Paulo:20260516T120000
DTEND;TZID=America/Sao_Paulo:20260516T180000
DTSTAMP:20260423T080123
CREATED:20250401T035452Z
LAST-MODIFIED:20260128T232500Z
UID:2006-1778932800-1778954400@www.bluenoseautosport.ca
SUMMARY:Bluenose Navigational Rally
DESCRIPTION:Navigational Rally out of Windsor Saturday 2026-05-16 \nDetails to follow. \nOnline Registration: https://docs.google.com/forms/d/e/1FAIpQLSeD6uAH2RNdXVS8uZJnjMxMmqi5XSj2bBLOWcTwpDW3JozQAQ/viewform?usp=sharing 
URL:https://www.bluenoseautosport.ca/event/bluenose-navigational-rally-2/
LOCATION:Windsor Curling Club\, 174 Gray Street\, Windsor\, Nova Scotia\, Canada
ORGANIZER;CN="Bluenose%20Autosport%20Club":MAILTO:info@bluenoseautosport.ca
END:VEVENT
END:VCALENDAR